BEGIN:VCALENDAR
VERSION:2.0
PRODID:-//Friends of the Granite Bay Library - ECPv6.15.20//NONSGML v1.0//EN
CALSCALE:GREGORIAN
METHOD:PUBLISH
X-WR-CALNAME:Friends of the Granite Bay Library
X-ORIGINAL-URL:https://folgranitebay.org
X-WR-CALDESC:Events for Friends of the Granite Bay Library
REFRESH-INTERVAL;VALUE=DURATION:PT1H
X-Robots-Tag:noindex
X-PUBLISHED-TTL:PT1H
BEGIN:VTIMEZONE
TZID:UTC
BEGIN:STANDARD
TZOFFSETFROM:+0000
TZOFFSETTO:+0000
TZNAME:UTC
DTSTART:20160101T000000
END:STANDARD
END:VTIMEZONE
BEGIN:VEVENT
DTSTART;VALUE=DATE:20190502
DTEND;VALUE=DATE:20190503
DTSTAMP:20260423T121347
CREATED:20180502T125353Z
LAST-MODIFIED:20190207T134309Z
UID:437-1556755200-1556841599@folgranitebay.org
SUMMARY:Big Day of Giving
DESCRIPTION:Big Day of Giving is a 24-hour online giving challenge that brings together the region’s nonprofit community to help raise much needed unrestricted funds and shine a spotlight on the work nonprofits do to make the Sacramento region the place we call home. \nWays to Give:\n \n1. Schedule your donation NOW for Thursday\, May 2nd\nClick on the button below to setup your donation to occur on the Big Day of Giving.\n\n2. Donate with a check – payable to Friends of the Granite Bay Library\, PO Box 2004\, Granite Bay\, CA 95746. Checks received before May 3rd will go toward our Big Day Goal.\n\n3. Donate online on Thursday\, May 2nd. Go to  www.bigdayofgiving.org/folgranitebay and give back to FOL\, or search for other charities in our region.\n\nSchedule Your Donation Now
URL:https://folgranitebay.org/event/big-day-of-giving/
LOCATION:Granite Bay Library\, 6475 Douglas Blvd.\, Granite Bay\, CA\, 95746-6226\, United States
ATTACH;FMTTYPE=image/png:https://folgranitebay.org/wp-content/uploads/2018/05/BIGDOG-e1549518176505.png
END:VEVENT
BEGIN:VEVENT
DTSTART;TZID=UTC:20190302T130000
DTEND;TZID=UTC:20190302T143000
DTSTAMP:20260423T121347
CREATED:20190116T134603Z
LAST-MODIFIED:20190116T134603Z
UID:548-1551531600-1551537000@folgranitebay.org
SUMMARY:Dr. Seuss' Birthday Party
DESCRIPTION:You’re invited to Dr. Seuss’ birthday party! Did you know Dr. Seuss would be 114 this year? While he is no longer with us\, his legacy lives on in the pages of his books. He forever changed the way children’s books were written and continues to inspire generations. So join us for a whimsical party! Read Dr. Seuss books\, use your imagination\, eat cake\, and be silly! Fun for the whole family! \nSaturday\, March 2nd from 1 – 2:30PM at the Granite Bay Library\nHosted by: Friends of the Granite Bay Library
URL:https://folgranitebay.org/event/dr-seuss-birthday-party/
LOCATION:Granite Bay Library\, 6475 Douglas Blvd.\, Granite Bay\, CA\, 95746-6226\, United States
ATTACH;FMTTYPE=image/jpeg:https://folgranitebay.org/wp-content/uploads/2019/01/2019_HBD_Seuss.jpeg
ORGANIZER;CN="Friends of the Granite Bay Library":MAILTO:info@folgranitebay.org
END:VEVENT
BEGIN:VEVENT
DTSTART;TZID=UTC:20190226T130000
DTEND;TZID=UTC:20190226T141500
DTSTAMP:20260423T121347
CREATED:20190120T041509Z
LAST-MODIFIED:20190209T053142Z
UID:551-1551186000-1551190500@folgranitebay.org
SUMMARY:Registration Closed - French Language Lessons
DESCRIPTION:Our class has reached capacity. Thank you for your interest & check back soon for our next event! \nBonjour! Learning a new language can be challenging\, however with games\, group discussion and a desire to learn you’ll be amazed at what you’ll accomplish. Register now for this free 6 week session to learn French. We’re excited to have the owner of Philoglots Language Center\, Josee Savrd Schumer\, facilitate these sessions. Presented by Eskaton Lodge Granite Bay in partnership with the Friends of the Granite Bay Library.
URL:https://folgranitebay.org/event/french-language-lessons/
LOCATION:Granite Bay Library\, 6475 Douglas Blvd.\, Granite Bay\, CA\, 95746-6226\, United States
ATTACH;FMTTYPE=image/png:https://folgranitebay.org/wp-content/uploads/2019/01/2019-Eskaton-French-Lessons_update.png
ORGANIZER;CN="Friends of the Granite Bay Library":MAILTO:info@folgranitebay.org
END:VEVENT
BEGIN:VEVENT
DTSTART;VALUE=DATE:20181127
DTEND;VALUE=DATE:20181128
DTSTAMP:20260423T121347
CREATED:20170712T042339Z
LAST-MODIFIED:20181119T053520Z
UID:115-1543276800-1543363199@folgranitebay.org
SUMMARY:Giving Tuesday
DESCRIPTION:#GivingTuesday is a special time of year when millions of people celebrate generosity by giving to their favorite organizations. As the official start of the “giving season”\, #Giving Tuesday is an opportunity to show appreciation and support for our community’s valuable resource – our library. \nPlease consider donating to Friends of the Granite Bay Library this holiday season. \nYour donation will go directly back to the Granite Bay Library and for every $25 donated we will be able to purchase a new book for the library’s collection. \nHelp us buy 175 new books\, spreading the love and passion of reading. \nWe really appreciate your unwavering support. Many thanks!
URL:https://folgranitebay.org/event/giving-tuesday/
LOCATION:CA
ATTACH;FMTTYPE=image/jpeg:https://folgranitebay.org/wp-content/uploads/2017/07/heart-book.jpg
END:VEVENT
BEGIN:VEVENT
DTSTART;TZID=UTC:20180810T100000
DTEND;TZID=UTC:20180811T140000
DTSTAMP:20260423T121347
CREATED:20170711T103922Z
LAST-MODIFIED:20180708T111209Z
UID:59-1533895200-1533996000@folgranitebay.org
SUMMARY:Book Sale
DESCRIPTION:Book Sale on August 10th from 10am to 5pm & August 11th from 10am to 2pm at the Granite Bay Library community room. \nWhen you donate to Friends of the Granite Bay Library\, you help support our most valuable community resource. Established in 1990\, Friends of the Granite Bay Library was formed to help Placer County fund and build a new\, permanent library location. The permanent building was completed in 1995\, and Friends continues to raise funds to support programs\, materials and services offered by the library. \nThrough memberships\, fundraising events and donations\, we have provided over $300\,000 in funding so far. If you share our passion and excitement for contributing to our local Library\, we invite you to become a Member and join us at 9am. \nThere will be many 1st editions and original prints available this year thanks to our generous donors.
URL:https://folgranitebay.org/event/book-sale/
LOCATION:Granite Bay Library\, 6475 Douglas Blvd.\, Granite Bay\, CA\, 95746-6226\, United States
ATTACH;FMTTYPE=image/jpeg:https://folgranitebay.org/wp-content/uploads/2017/07/book-sale.jpg
END:VEVENT
BEGIN:VEVENT
DTSTART;TZID=UTC:20180805T100000
DTEND;TZID=UTC:20180805T110000
DTSTAMP:20260423T121347
CREATED:20170712T040657Z
LAST-MODIFIED:20180708T053841Z
UID:112-1533463200-1533466800@folgranitebay.org
SUMMARY:Science Saturday: First Saturday of the month
DESCRIPTION:UPDATE: Science Saturday is temporarily on hiatus until September due to the summer programing. \nChildren can explore\, experiment & discover the wonders of science in this monthly hands-on program. It will be the first Saturday of every month from 10:00 a.m. to 11:00 a.m.
URL:https://folgranitebay.org/event/science-saturday/
LOCATION:Granite Bay Library\, 6475 Douglas Blvd.\, Granite Bay\, CA\, 95746-6226\, United States
ATTACH;FMTTYPE=image/png:https://folgranitebay.org/wp-content/uploads/2017/07/chemistry.png
END:VEVENT
BEGIN:VEVENT
DTSTART;VALUE=DATE:20180601
DTEND;VALUE=DATE:20180701
DTSTAMP:20260423T121347
CREATED:20180508T120905Z
LAST-MODIFIED:20180508T120905Z
UID:441-1527811200-1530403199@folgranitebay.org
SUMMARY:Cookies for a Cause
DESCRIPTION:You buy cookies\, we buy books!\nPurchase a delicious six-count Chocolate Chunk Cookie package at the Granite Bay Chick-fil-A location during the month of June 2018 and the Friends of the Granite Bay Library will received 50% of the sales.
URL:https://folgranitebay.org/event/cookies-for-a-cause/
LOCATION:Chick-fil-A\, 4040 Douglas Blvd\, GRANITE BAY\, CA\, 95746-7182\, United States
ATTACH;FMTTYPE=image/jpeg:https://folgranitebay.org/wp-content/uploads/2018/05/Cookies.jpg
END:VEVENT
BEGIN:VEVENT
DTSTART;TZID=UTC:20180303T130000
DTEND;TZID=UTC:20180303T143000
DTSTAMP:20260423T121347
CREATED:20180212T121409Z
LAST-MODIFIED:20180212T121409Z
UID:426-1520082000-1520087400@folgranitebay.org
SUMMARY:Dr. Seuss’ Birthday Celebration
DESCRIPTION:You are invited to celebrate Dr. Seuss’ birthday on Saturday\, March 3rd from 1-2:30pm at the Granite Bay Library. Stop by for a piece of yummy cake and some super fun crafts. This event is free and the whole family is welcome!
URL:https://folgranitebay.org/event/dr-seuss-birthday-celebration/
LOCATION:Granite Bay Library\, 6475 Douglas Blvd.\, Granite Bay\, CA\, 95746-6226\, United States
ATTACH;FMTTYPE=image/jpeg:https://folgranitebay.org/wp-content/uploads/2018/02/scott-webb-342400.jpg
ORGANIZER;CN="Friends of the Granite Bay Library":MAILTO:info@folgranitebay.org
END:VEVENT
BEGIN:VEVENT
DTSTART;TZID=UTC:20171008T140000
DTEND;TZID=UTC:20171008T163000
DTSTAMP:20260423T121347
CREATED:20170711T032757Z
LAST-MODIFIED:20171008T134203Z
UID:24-1507471200-1507480200@folgranitebay.org
SUMMARY:Celebrity Chili Cook-Off
DESCRIPTION:2017 Friends of the Granite Bay Library Celebrity Chili Cook-Off \nSupporting our Granite Bay Community Library \nDate: Sunday\, October 8\, 2017 from 2 – 4:30PM \nWhere: Quarry Ponds Town Center \nWho: Granite Bay’s best local Community Chili Chefs prepare their favorite recipes to benefit our local \nGranite Bay library. \nWhat: Chili Tasting\, raffles\, silent auction\, live entertainment including Barton Douglas Band\, Celebrity MC Kevin Kiley\, and more! \nWhy: 100% of the proceeds go to our local Granite Bay Library to help sustain meaningful programs\, \npurchase new books for all ages and interests and to foster the love of reading in our community. \nTickets available at the door!
URL:https://folgranitebay.org/event/chili-cook-off/
LOCATION:Quarry Ponds Town Center\, 5550 Douglas Blvd\, Granite Bay\, CA\, 95746\, United States
ATTACH;FMTTYPE=image/png:https://folgranitebay.org/wp-content/uploads/2017/09/FOL-Chili-Cook-Off-Ticket-image.png
ORGANIZER;CN="Friends of the Granite Bay Library":MAILTO:info@folgranitebay.org
END:VEVENT
BEGIN:VEVENT
DTSTART;TZID=UTC:20170809T190000
DTEND;TZID=UTC:20170809T203000
DTSTAMP:20260423T121347
CREATED:20170711T223717Z
LAST-MODIFIED:20170803T225730Z
UID:65-1502305200-1502310600@folgranitebay.org
SUMMARY:Book Launch Party
DESCRIPTION:Join us as we celebrate the launch of “Who Does It Hurt?” with the author\, Paul Robins. \nIt’s 1985. Sid Bigler has been a licensed Private Detective for six months. When the woman of his dreams is shot as he holds her in his arms\, Sid stumbles across a dark family secret that’s been buried for decades. What Sid knows will destroy the lives of people he loves. If he keeps his mouth shut… “Who Does It Hurt?” \nPaul’s first novel\, “Did Sid?” is available in paperback or e-book at www.PaulRobins.com. His new novel\, a sequel\, is officially being released the day of our Author Showcase. The Sid Bigler Mysteries\nare perfect summer reads. \n“Who Does It Hurt?” will be available for purchase in paperback that evening at the Granite Bay Library\, and 100% of the proceeds from book sales will be donated to Friends of the Granite Bay Library. \nAbout the Author\nPaul Robins is a successful broadcaster\, an avid reader\, a slow but devoted runner\, and a writer of mystery novels. His morning radio resume includes brief stops in Detroit & Dallas\, and a wonderfully long one in Sacramento\, California. In TV-land\, Paul appeared for several years on The Discovery Channel as one of “The Answer Guys” and is currently seen on PBS’s “America’s Heartland.” He can also be found anchoring the news weekday mornings on KTXL FOX40 in Sacramento.
URL:https://folgranitebay.org/event/book-launch-party/
LOCATION:Granite Bay Library\, 6475 Douglas Blvd.\, Granite Bay\, CA\, 95746-6226\, United States
ATTACH;FMTTYPE=image/jpeg:https://folgranitebay.org/wp-content/uploads/2017/07/two-books.jpg
ORGANIZER;CN="Friends of the Granite Bay Library":MAILTO:info@folgranitebay.org
END:VEVENT
END:VCALENDAR